BEGIN:VCALENDAR
VERSION:2.0
PRODID:-//The German Oracle User Group - ECPv6.15.20//NONSGML v1.0//EN
CALSCALE:GREGORIAN
METHOD:PUBLISH
X-WR-CALNAME:The German Oracle User Group
X-ORIGINAL-URL:https://www.ora2know.de
X-WR-CALDESC:Veranstaltungen für The German Oracle User Group
REFRESH-INTERVAL;VALUE=DURATION:PT1H
X-Robots-Tag:noindex
X-PUBLISHED-TTL:PT1H
BEGIN:VTIMEZONE
TZID:Europe/Berlin
BEGIN:DAYLIGHT
TZOFFSETFROM:+0100
TZOFFSETTO:+0200
TZNAME:CEST
DTSTART:20250330T010000
END:DAYLIGHT
BEGIN:STANDARD
TZOFFSETFROM:+0200
TZOFFSETTO:+0100
TZNAME:CET
DTSTART:20251026T010000
END:STANDARD
BEGIN:DAYLIGHT
TZOFFSETFROM:+0100
TZOFFSETTO:+0200
TZNAME:CEST
DTSTART:20260329T010000
END:DAYLIGHT
BEGIN:STANDARD
TZOFFSETFROM:+0200
TZOFFSETTO:+0100
TZNAME:CET
DTSTART:20261025T010000
END:STANDARD
BEGIN:DAYLIGHT
TZOFFSETFROM:+0100
TZOFFSETTO:+0200
TZNAME:CEST
DTSTART:20270328T010000
END:DAYLIGHT
BEGIN:STANDARD
TZOFFSETFROM:+0200
TZOFFSETTO:+0100
TZNAME:CET
DTSTART:20271031T010000
END:STANDARD
END:VTIMEZONE
BEGIN:VEVENT
DTSTART;TZID=Europe/Berlin:20260610T153000
DTEND;TZID=Europe/Berlin:20260610T180000
DTSTAMP:20260423T133111
CREATED:20260417T083851Z
LAST-MODIFIED:20260417T084334Z
UID:1753-1781105400-1781114400@www.ora2know.de
SUMMARY:meet ora2know in Wertheim
DESCRIPTION:Vorläufige Agenda: \n\nMeet the Host – IT beim Sonnenlichtmanager Warema\nMission 26ai Upgrade on-prem – Oracle Upgrade bei Warema\nAI bei Warema – unsere bisherigen Erfahrungen mit AI bei Warema\n\n  \nAnmeldung via email an meet-sued@ora2know.de 
URL:https://www.ora2know.de/event/meet-ora2know-in-wertheim/
LOCATION:WAREMA Sun Academy\, Hymerring 1\, Wertheim\, Bayern\, 97877\, Germany
CATEGORIES:ora2know Event
END:VEVENT
END:VCALENDAR