BEGIN:VCALENDAR
VERSION:2.0
PRODID:-//The German Oracle User Group - ECPv6.15.20//NONSGML v1.0//EN
CALSCALE:GREGORIAN
METHOD:PUBLISH
X-ORIGINAL-URL:https://www.ora2know.de
X-WR-CALDESC:Veranstaltungen für The German Oracle User Group
REFRESH-INTERVAL;VALUE=DURATION:PT1H
X-Robots-Tag:noindex
X-PUBLISHED-TTL:PT1H
BEGIN:VTIMEZONE
TZID:Europe/Berlin
BEGIN:DAYLIGHT
TZOFFSETFROM:+0100
TZOFFSETTO:+0200
TZNAME:CEST
DTSTART:20250330T010000
END:DAYLIGHT
BEGIN:STANDARD
TZOFFSETFROM:+0200
TZOFFSETTO:+0100
TZNAME:CET
DTSTART:20251026T010000
END:STANDARD
BEGIN:DAYLIGHT
TZOFFSETFROM:+0100
TZOFFSETTO:+0200
TZNAME:CEST
DTSTART:20260329T010000
END:DAYLIGHT
BEGIN:STANDARD
TZOFFSETFROM:+0200
TZOFFSETTO:+0100
TZNAME:CET
DTSTART:20261025T010000
END:STANDARD
BEGIN:DAYLIGHT
TZOFFSETFROM:+0100
TZOFFSETTO:+0200
TZNAME:CEST
DTSTART:20270328T010000
END:DAYLIGHT
BEGIN:STANDARD
TZOFFSETFROM:+0200
TZOFFSETTO:+0100
TZNAME:CET
DTSTART:20271031T010000
END:STANDARD
END:VTIMEZONE
BEGIN:VEVENT
DTSTART;TZID=Europe/Berlin:20260528T083000
DTEND;TZID=Europe/Berlin:20260528T161500
DTSTAMP:20260423T121454
CREATED:20260417T084603Z
LAST-MODIFIED:20260417T084603Z
UID:1757-1779957000-1779984900@www.ora2know.de
SUMMARY:Quest Data Minds Konferenz
DESCRIPTION:Bereits im letzten Jahr haben wir die QMDK mit Vorträgen unterstützt und auch dieses Mal sind wir (Johannes Ahrends und Robert Marz) bei der Konferenz mit Vorträgen rund um die Oracle AI Database 26ai dabei. \n  \nWeitere Infos und Registrierung: https://www.quest.com/de-de/register/147635/
URL:https://www.ora2know.de/event/quest-data-minds-konferenz/
LOCATION:Hilton City Köln\, Marzellenstrasse 13-17\, Köln\, 50668\, Germany
END:VEVENT
END:VCALENDAR