BEGIN:VCALENDAR
VERSION:2.0
PRODID:-//The German Oracle User Group - ECPv6.15.20//NONSGML v1.0//EN
CALSCALE:GREGORIAN
METHOD:PUBLISH
X-ORIGINAL-URL:https://www.ora2know.de
X-WR-CALDESC:Veranstaltungen für The German Oracle User Group
REFRESH-INTERVAL;VALUE=DURATION:PT1H
X-Robots-Tag:noindex
X-PUBLISHED-TTL:PT1H
BEGIN:VTIMEZONE
TZID:Europe/Berlin
BEGIN:DAYLIGHT
TZOFFSETFROM:+0100
TZOFFSETTO:+0200
TZNAME:CEST
DTSTART:20250330T010000
END:DAYLIGHT
BEGIN:STANDARD
TZOFFSETFROM:+0200
TZOFFSETTO:+0100
TZNAME:CET
DTSTART:20251026T010000
END:STANDARD
BEGIN:DAYLIGHT
TZOFFSETFROM:+0100
TZOFFSETTO:+0200
TZNAME:CEST
DTSTART:20260329T010000
END:DAYLIGHT
BEGIN:STANDARD
TZOFFSETFROM:+0200
TZOFFSETTO:+0100
TZNAME:CET
DTSTART:20261025T010000
END:STANDARD
BEGIN:DAYLIGHT
TZOFFSETFROM:+0100
TZOFFSETTO:+0200
TZNAME:CEST
DTSTART:20270328T010000
END:DAYLIGHT
BEGIN:STANDARD
TZOFFSETFROM:+0200
TZOFFSETTO:+0100
TZNAME:CET
DTSTART:20271031T010000
END:STANDARD
END:VTIMEZONE
BEGIN:VEVENT
DTSTART;TZID=Europe/Berlin:20260319T170000
DTEND;TZID=Europe/Berlin:20260319T200000
DTSTAMP:20260423T121133
CREATED:20251117T221054Z
LAST-MODIFIED:20260312T163014Z
UID:1659-1773939600-1773950400@www.ora2know.de
SUMMARY:Meet ora2know West in Dortmund
DESCRIPTION:Geplante Vorträge \nRobert Ortel (Fa.Europace)\, Jonas Miene „Oracle Database @ AWS – Technische Highlights & Praxisbericht“ \nIn diesem Vortrag beleuchten wir Oracle Database on AWS aus zwei Perspektiven: Theorie und gelebte Praxis.\nIm ersten Teil gibt Jonas Miene einen Überblick über die technischen und funktionalen Highlights des Service – von den Bereitstellungsoptionen und Leistungsmerkmalen bis hin zur Integration ins AWS Ökosystem.\nIm zweiten Teil übernimmt Robert Ortel das Wort und berichtet aus erster Hand: Wie verlief der Test des Services in den USA? Welche Erfahrungen wurden dabei gesammelt? Und wie sieht der tatsächliche Aufbau der produktiven Umgebung in der AWS Region Frankfurt aus?\nEin Vortrag für alle\, die Oracle Workloads in die Cloud verlagern möchten oder einfach wissen wollen\, wie Oracle Database @ AWS in der Praxis funktioniert. \n  \nAnil Afak „KI Use Case: Retrieval Augmented Generation mit der Oracle 26 AI Datenbank“ \nIn diesem Use-Case wird eine Methode zur Verbesserung von Textgenerierung großer Sprach-Modelle\, sogenannte Large Language Model (LLMs)\, durch die Integration von externer Wissensabfrage entwickelt. Ziel ist die Erhöhung der Interaktivität und Effizienz bei der Informationsbeschaffung durch eine flexible Anbindung an externe Wissensquellen in einer Vektor-Datenbank und natürliche Kommunikation durch eine Kommunikationsplattform. Die vorgeschlagene Pipeline kombiniert leistungsfähige Abruf- und Generierungsmodelle\, um auf relevante\, aktuelle Informationen zuzugreifen und diese in die Textgenerierung zu integrieren und weiterzuentwickeln. Der Anwendungsfall zeigt\, dass der RAG-Ansatz die Qualität der Antworten signifikant steigert und dabei den manuellen Rechercheaufwand reduziert. \nChristian Schwitalla „Einsatz von Bitmap-Indizes im DWH – ein Erfahrungsbericht \nBitmap-Indizes unterscheiden sich signifikant von den klassische B-Baum-Indizes in nahezu jeglicher Hinsicht. Sie bieten Vorteile\, die vor allem im Data-Warehouse-Umfeld wichtig sind. Aber auch in operativen Systemen können Bitmap-Indizes ihre Stärken ausspielen. In dem Erfahrungsbericht werden Bitmap-Indizes kurz vorgestellt und deren Vorteile aus Sicht der DB-Programmierung geschildert. Darüber hinaus wird ein Use Case besprochen\, der auf dem Einsatz von Bitmap-Indizes beruht. \n  \nDie Veranstaltung ist kostenlos. \nAnmeldung bitte per email an meet-west@ora2know.de \nDie Veranstaltung wird organisiert von Axel vom Stein.
URL:https://www.ora2know.de/event/meet-ora2know-west/
LOCATION:Apps Associates GmbH\, Dortmund\, Hörder Hafenstraße 11\, Dortmund\, 44263
END:VEVENT
END:VCALENDAR