BEGIN:VCALENDAR
VERSION:2.0
PRODID:-//The German Oracle User Group - ECPv6.15.20//NONSGML v1.0//EN
CALSCALE:GREGORIAN
METHOD:PUBLISH
X-ORIGINAL-URL:https://www.ora2know.de
X-WR-CALDESC:Veranstaltungen für The German Oracle User Group
REFRESH-INTERVAL;VALUE=DURATION:PT1H
X-Robots-Tag:noindex
X-PUBLISHED-TTL:PT1H
BEGIN:VTIMEZONE
TZID:Europe/Berlin
BEGIN:DAYLIGHT
TZOFFSETFROM:+0100
TZOFFSETTO:+0200
TZNAME:CEST
DTSTART:20250330T010000
END:DAYLIGHT
BEGIN:STANDARD
TZOFFSETFROM:+0200
TZOFFSETTO:+0100
TZNAME:CET
DTSTART:20251026T010000
END:STANDARD
BEGIN:DAYLIGHT
TZOFFSETFROM:+0100
TZOFFSETTO:+0200
TZNAME:CEST
DTSTART:20260329T010000
END:DAYLIGHT
BEGIN:STANDARD
TZOFFSETFROM:+0200
TZOFFSETTO:+0100
TZNAME:CET
DTSTART:20261025T010000
END:STANDARD
BEGIN:DAYLIGHT
TZOFFSETFROM:+0100
TZOFFSETTO:+0200
TZNAME:CEST
DTSTART:20270328T010000
END:DAYLIGHT
BEGIN:STANDARD
TZOFFSETFROM:+0200
TZOFFSETTO:+0100
TZNAME:CET
DTSTART:20271031T010000
END:STANDARD
END:VTIMEZONE
BEGIN:VEVENT
DTSTART;TZID=Europe/Berlin:20260210T120000
DTEND;TZID=Europe/Berlin:20260211T130000
DTSTAMP:20260423T133808
CREATED:20251117T101548Z
LAST-MODIFIED:20260116T163919Z
UID:1626-1770724800-1770814800@www.ora2know.de
SUMMARY:noon2noon - KI für den DBA
DESCRIPTION:Nachdem wir uns Jahrzehnte mit Tablespaces herumgeschlagen haben und uns in den letzten Jahren Pluggable Databases um die Ohren flogen\, kommt jetzt „Vector Search“. Zu allem Überfluss wollen die Anwender auch noch Prosa für die Datensuche schreiben – und das vielleicht sogar noch auf Deutsch! Können wir als DBAs da noch mithalten? Klar\, es gibt ja ora2know.\nWir bieten einen professionellen Einstieg in die Nutzung von KI in der Oracle Datenbank. \n\nWas kann KI – und was nicht?\nWie kann man in der Datenbank Vector Search und RAG nutzen\, um z.B. eine intelligente Suche auf dem eigenen Wiki zu implementieren\n\nWas muss der DBA beachten\, wenn in der Anwendung Native Language Queries eingesetzt werden sollen? Sind dann vielleicht alle Unternehmensdaten in der Cloud verschwunden? \nWie bei der Noon2Noon üblich\, gibt es wieder viel Zeit zum Ausprobieren und zum Diskutieren. \n  \nVorläufige Agenda: \nDienstag\, 10. Februar 2026 \n12:00 Uhr   Begrüßung und Essen \n13:00 Uhr   Einleitung (KI\, Large Language\, Machine Learning\, Deep Learning\, MCP\, RAG) Martin Klier \n14:00 Uhr   Wie zapfe ich mein (unser) Wiki mit KI an?      Markus Kissling\, Johannes Michler\nVector Search\, RAG \n\nGetting Started with AI Vector Search\nBuild a GenAI-Powered Application with Oracle AI Database—Finance Edition\nSelect AI\n\nAußerdem besteht die Möglichkeit\, eine eigene Installation (Virtualbox\, etc.) zu nutzen. \n16:30 Uhr   Wo bin ich? – Austausch der Erfahrungen \n17:30 Uhr   Vector Search II        Robert Marz \n19:00 Uhr   Abendessen \n20:00 Uhr   Weitertesten \n  \nMittwoch\, 11. Februar 2026 \n08:00 Uhr   Frühstück \n09:00 Uhr   Meine Datenbank versteht mich endlich. – Johannes Michler\nMCP\, Natural Language Query\, Rechte und Pflichten\nBeispiel von Johannes Michler mit Oracle 26ai Free und einer produktiven 19c Datenbank \n12:00 Uhr   Wrap Up und Mittagessen \n13:00 Uhr   Offizielles Ende der Veranstaltung \nOrt: Hotel Mercure Mitte\, Postkamp 10\, 30159 Hannover \nKosten: 575  EUR (netto) pro Person inkl. Übernachtung \nAnmeldung: via email an n2n@ora2know.de \n  \n 
URL:https://www.ora2know.de/event/noon2noon-ki-fuer-den-dba/
LOCATION:Hotel Mercure Mitte Hannover\, Postkamp 10\, Hannover\, Niedersachsen\, 30159
CATEGORIES:ora2know Event
END:VEVENT
END:VCALENDAR