BEGIN:VCALENDAR
VERSION:2.0
PRODID:-//The German Oracle User Group - ECPv6.15.20//NONSGML v1.0//EN
CALSCALE:GREGORIAN
METHOD:PUBLISH
X-ORIGINAL-URL:https://www.ora2know.de
X-WR-CALDESC:Veranstaltungen für The German Oracle User Group
REFRESH-INTERVAL;VALUE=DURATION:PT1H
X-Robots-Tag:noindex
X-PUBLISHED-TTL:PT1H
BEGIN:VTIMEZONE
TZID:Europe/Berlin
BEGIN:DAYLIGHT
TZOFFSETFROM:+0100
TZOFFSETTO:+0200
TZNAME:CEST
DTSTART:20240331T010000
END:DAYLIGHT
BEGIN:STANDARD
TZOFFSETFROM:+0200
TZOFFSETTO:+0100
TZNAME:CET
DTSTART:20241027T010000
END:STANDARD
BEGIN:DAYLIGHT
TZOFFSETFROM:+0100
TZOFFSETTO:+0200
TZNAME:CEST
DTSTART:20250330T010000
END:DAYLIGHT
BEGIN:STANDARD
TZOFFSETFROM:+0200
TZOFFSETTO:+0100
TZNAME:CET
DTSTART:20251026T010000
END:STANDARD
BEGIN:DAYLIGHT
TZOFFSETFROM:+0100
TZOFFSETTO:+0200
TZNAME:CEST
DTSTART:20260329T010000
END:DAYLIGHT
BEGIN:STANDARD
TZOFFSETFROM:+0200
TZOFFSETTO:+0100
TZNAME:CET
DTSTART:20261025T010000
END:STANDARD
END:VTIMEZONE
BEGIN:VEVENT
DTSTART;TZID=Europe/Berlin:20251203T170000
DTEND;TZID=Europe/Berlin:20251203T200000
DTSTAMP:20260423T164512
CREATED:20251113T190711Z
LAST-MODIFIED:20251120T080333Z
UID:1620-1764781200-1764792000@www.ora2know.de
SUMMARY:Meet ora2know@West
DESCRIPTION:Wir möchten euch gerne einladen\, bei Glühwein und Punsch das Jahr ausklingen zu lassen. Wir treffen uns um 17 Uhr in der Barmenia Hauptverwaltung in Wuppertal. Zunächst gibt es einen Mystery-Vortrag – natürlich über Oracle und dann würden wir die Zeit gerne für’s Networking und Feedback von euch an uns nutzen. \nWeil Weihnachten ist\, dürft ihr euch etwas wünschen: \n\nWas soll ora2know nächstes Jahr machen?\nWelche Themen und Veranstaltungen hättet ihr gerne.\n\nDamit wir nicht überrollt werden\, wäre es nett\, wenn ihr euch vorher anmeldet. Natürlich ist die Veranstaltung kostenlos. \nHerzlichen Dank an den Gastgeber Barmenia! \nDie Veranstaltung wird organisiert von Johannes Ahrends\, Axel vom Stein und Markus Flechtner.
URL:https://www.ora2know.de/event/meet-ora2knowwest/
LOCATION:Barmenia Versicherung AG\, Barmeniaallee 1\, Wuppertal\, 42119\, Germany
CATEGORIES:ora2know Event
ATTACH;FMTTYPE=image/png:https://www.ora2know.de/wp-content/uploads/2025/11/Logo1-Gluehwein_ohne_deko-Farbe.png
ORGANIZER;CN="ora2know":MAILTO:info@ora2know.de
END:VEVENT
END:VCALENDAR