BEGIN:VCALENDAR
VERSION:2.0
PRODID:-//The German Oracle User Group - ECPv6.15.20//NONSGML v1.0//EN
CALSCALE:GREGORIAN
METHOD:PUBLISH
X-WR-CALNAME:The German Oracle User Group
X-ORIGINAL-URL:https://www.ora2know.de
X-WR-CALDESC:Veranstaltungen für The German Oracle User Group
REFRESH-INTERVAL;VALUE=DURATION:PT1H
X-Robots-Tag:noindex
X-PUBLISHED-TTL:PT1H
BEGIN:VTIMEZONE
TZID:Europe/Berlin
BEGIN:DAYLIGHT
TZOFFSETFROM:+0100
TZOFFSETTO:+0200
TZNAME:CEST
DTSTART:20240331T010000
END:DAYLIGHT
BEGIN:STANDARD
TZOFFSETFROM:+0200
TZOFFSETTO:+0100
TZNAME:CET
DTSTART:20241027T010000
END:STANDARD
BEGIN:DAYLIGHT
TZOFFSETFROM:+0100
TZOFFSETTO:+0200
TZNAME:CEST
DTSTART:20250330T010000
END:DAYLIGHT
BEGIN:STANDARD
TZOFFSETFROM:+0200
TZOFFSETTO:+0100
TZNAME:CET
DTSTART:20251026T010000
END:STANDARD
BEGIN:DAYLIGHT
TZOFFSETFROM:+0100
TZOFFSETTO:+0200
TZNAME:CEST
DTSTART:20260329T010000
END:DAYLIGHT
BEGIN:STANDARD
TZOFFSETFROM:+0200
TZOFFSETTO:+0100
TZNAME:CET
DTSTART:20261025T010000
END:STANDARD
END:VTIMEZONE
BEGIN:VEVENT
DTSTART;TZID=Europe/Berlin:20251022T100000
DTEND;TZID=Europe/Berlin:20251022T163000
DTSTAMP:20260423T194706
CREATED:20250813T183931Z
LAST-MODIFIED:20251015T072944Z
UID:1520-1761127200-1761150600@www.ora2know.de
SUMMARY:ora2know-Oracle AI World 2025 Follow Up mit Maria Colgan in Frankfurt
DESCRIPTION:Nachdem Oracle die Cloud World in Oracle AI World umbenannt hat\, sind wir gespannt\, welche inhaltlichen Neuigkeiten es geben wird!\nWir bieten euch am 22. Oktober 2025 die Gelegenheit\, die Neuigkeiten der Oracle AI World aus erster Hand zu erfahren. Maria Colgan\, als Product Manager für den Oracle Optimizer seit vielen Jahren bekannt\, kommt nach Frankfurt: Zu einem einmaligen ora2know Event! Sie wird uns in ihren Vorträgen die News von der OAIW aus ihrer Sicht darstellen. Außerdem gibt es einen weiteren OAIW-Bericht aus erster Hand von Oracle ACE Director Johannes Michler! \nAgenda\n\nMaria Colgan (Oracle): Impressions from Oracle AI World 2026 in Las Vegas\nMaria Colgan (Oracle): AI for Data (Vector Search\, Agentic RAG and Oracle MCP server)\nJohannes Michler (Promatis\, Oracle ACE Director): AI from AI World (Gemini on OCI\, Project report with SelectAI / OCI GenAI Agents)\nMartin Klier (Performing Databases\, Oracle ACE Director): Oracle MAA Building Blocks – RAC and Data Guard\nJohannes Ahrends (CarajanDB\, Oracle ACE): Multitenant Database – alles klar?\nRobert Marz (Databee\, Oracle ACE): Oracle 23ai: JSON-Features jenseits von Duality Views\n\nÜber Maria Colgan\nDistinguished Product Manager\nMaria Colgan ist Vice President of Product Management für KI und geschäftskritische Daten im Oracle-Datenbankteam\, dem sie seit 1996 angehört. Sie ist das\, was manche als „Datenbank-Nerd“ bezeichnen würden\, und hat ihre gesamte Karriere damit verbracht\, die Leistung von Datenbanken und Anwendungen zu optimieren.In ihrer aktuellen Rolle ist sie verantwortlich für das Produktmanagement der KI-Engines der Datenbank\, Advanced Compression\, Database In-Memory und geschäftskritische Daten. Ihre persönliche Mission ist es\, Unternehmen zu der Flexibilität und Widerstandsfähigkeit zu verhelfen\, die sie insbesondere in der heutigen\, sich ständig verändernden Welt benötigen – indem sie ihnen hilft\, diese außergewöhnliche Technologie besser zu nutzen. \nVor dieser Position war sie Produktmanagerin für Oracle Database In-Memory und den Oracle-Datenbank-Query-Optimizer. Maria ist außerdem die Hauptautorin des Blogs SQLMaria. \nhttps://sqlmaria.com \nWeitere Details\nDie Veranstaltung findet in den Räumen der teccle motion GmbH\, Hanauer Landstraße 182A\, 60314 Frankfurt am Main statt. \nDie Teilnahmegebühr beträgt 125\,00 Euro zzgl. MwSt. Die Teilnehmerzahl ist auf 30 Personen begrenzt\, also schnell anmelden unter info@ora2know.de!
URL:https://www.ora2know.de/event/oracle-cloud-world-heisst-jetzt-oracle-ai-world/
LOCATION:Frankfurt\, noch nicht festgelegt
CATEGORIES:ora2know Event
ATTACH;FMTTYPE=image/avif:https://www.ora2know.de/wp-content/uploads/2025/08/maria-colgan-e1755109867931.avif
ORGANIZER;CN="ora2know":MAILTO:info@ora2know.de
END:VEVENT
END:VCALENDAR